View In:
ArcGIS JavaScript
ArcGIS Online map viewer
ArcGIS Earth
ArcMap
ArcGIS Pro
View Footprint In:
ArcGIS Online map viewer
Service Description: The UCLA Campus Map features the most authoritative and comprehensive information about hundreds of locations on campus, including buildings, lecture halls, dining, shopping, recreation, transportation, points of interest and more!
Map Name: SPACE_BASEMAP_2024
Legend
All Layers and Tables
Dynamic Legend
Dynamic All Layers
Layers:
Description: The UCLA Campus Map features the most authoritative and comprehensive information about hundreds of locations on campus, including buildings, lecture halls, dining, shopping, recreation, transportation, points of interest and more!
Copyright Text:
Spatial Reference:
102100
(3857)
Single Fused Map Cache: true
Tile Info:
- Height: 256
- Width: 256
- DPI: 96
-
Levels of Detail: 24
-
Level ID: 1
[ Start Tile, End Tile ]
- Resolution: 78271.5169639999
- Scale: 2.95828763795777E8
-
Level ID: 2
[ Start Tile, End Tile ]
- Resolution: 39135.7584820001
- Scale: 1.47914381897889E8
-
Level ID: 3
[ Start Tile, End Tile ]
- Resolution: 19567.8792409999
- Scale: 7.3957190948944E7
-
Level ID: 4
[ Start Tile, End Tile ]
- Resolution: 9783.93962049996
- Scale: 3.6978595474472E7
-
Level ID: 5
[ Start Tile, End Tile ]
- Resolution: 4891.96981024998
- Scale: 1.8489297737236E7
- Format: PNG
- Compression Quality: 0.0
- Origin: X: -2.0037508342787E7
Y: 2.0037508342787E7
- Spatial Reference: 102100
(3857)
Initial Extent:
XMin: -1.3185550936617736E7
YMin: 4036722.149512063
XMax: -1.318408061496311E7
YMax: 4038477.816609096
Spatial Reference: 102100
Full Extent:
XMin: -1.3187293978338001E7
YMin: 4036275.107594945
XMax: -1.3183513736402517E7
YMax: 4039645.244543553
Spatial Reference: 102100
Units: esriMeters
Supported Image Format Types: PNG32,PNG24,PNG,JPG,DIB,TIFF,EMF,PS,PDF,GIF,SVG,SVGZ,BMP
Document Info:
Title: UCLA Campus Map
Author:
Comments: The UCLA Campus Map features the most authoritative and comprehensive information about hundreds of locations on campus, including buildings, lecture halls, dining, shopping, recreation, transportation, points of interest and more!
Subject: UCLA Campus Map tile cache
Category:
Keywords: UCLA campus map,buildings,points of interest,parking,dining,shopping,ATM,residence halls,housing,restaurants
AntialiasingMode: Fast
TextAntialiasingMode: Force
Supports Dynamic Layers: true
MaxRecordCount: 2000
MaxImageHeight: 4096
MaxImageWidth: 4096
Supported Query Formats: JSON, geoJSON, PBF
Supports Query Data Elements: true
Min Scale: 36111.909643
Max Scale: 4513.988705
Supports Datum Transformation: true
Child Resources:
Info
Dynamic Layer
Supported Operations:
Export Map
Identify
QueryDomains
QueryLegends
Find
EstimateExportTilesSize
ExportTiles
Return Updates
Generate KML